BEGIN:VCALENDAR
VERSION:2.0
PRODID:-// - ECPv6.13.2.1//NONSGML v1.0//EN
CALSCALE:GREGORIAN
METHOD:PUBLISH
X-ORIGINAL-URL:https://wesleyhealthcenter.org
X-WR-CALDESC:Events for 
REFRESH-INTERVAL;VALUE=DURATION:PT1H
X-Robots-Tag:noindex
X-PUBLISHED-TTL:PT1H
BEGIN:VTIMEZONE
TZID:UTC
BEGIN:STANDARD
TZOFFSETFROM:+0000
TZOFFSETTO:+0000
TZNAME:UTC
DTSTART:20180101T000000
END:STANDARD
END:VTIMEZONE
BEGIN:VEVENT
DTSTART;TZID=UTC:20211016T090000
DTEND;TZID=UTC:20211016T120000
DTSTAMP:20260424T145625
CREATED:20211006T221527Z
LAST-MODIFIED:20211006T221527Z
UID:360-1634374800-1634385600@wesleyhealthcenter.org
SUMMARY:Free Flu Shots
DESCRIPTION:
URL:https://wesleyhealthcenter.org/event/free-flu-shots/
LOCATION:Wesley Health Center\, 410 S. Pittsburgh St\, Connellsville\, PA\, 15425
END:VEVENT
BEGIN:VEVENT
DTSTART;TZID=UTC:20180414T160000
DTEND;TZID=UTC:20180414T190000
DTSTAMP:20260424T145625
CREATED:20180325T165118Z
LAST-MODIFIED:20180325T165118Z
UID:304-1523721600-1523732400@wesleyhealthcenter.org
SUMMARY:Spaghetti & Meatball Dinner
DESCRIPTION:
URL:https://wesleyhealthcenter.org/event/spaghetti-meatball-dinner/
LOCATION:Wesley United Methodist Church\, 417 South Pittsburgh St\, Connellsville\, PA\, 15425
END:VEVENT
END:VCALENDAR